BEGIN:VCALENDAR
VERSION:2.0
PRODID:-//wp-events-plugin.com//7.2.3.1//EN
BEGIN:VEVENT
UID:15@laz.radio
DTSTART:20240804T110000Z
DTEND:20240804T140000Z
DTSTAMP:20240717T133139Z
URL:https://laz.radio/eventos/deltona-community-party/
SUMMARY:Deltona Community Party
DESCRIPTION:The Deltona Community Party will consist of different providers
 \, vendors\, and sponsors. Our goal is to have providers offer information
  to our community about other resources that will benefit them and their l
 oved ones. Small businesses will promote their businesses to the community
  and grow. We hope our community will be delighted to see how we all get t
 ogether to provide valid information from providers and vendors\; this wil
 l unite us as one community family.\nThe Deltona Community Party  is not 
 just about sharing resources\, but also about fostering meaningful connect
 ions. It's a unique chance for you to network with colleagues in your fiel
 d and beyond\, potentially leading to fruitful collaborations and partners
 hips.\n\n\n\n\nLa Fiesta Comunitaria de Deltona tendrá diferentes proveed
 ores\, vendedores y patrocinadores. Nuestro objetivo es que los proveedore
 s ofrezcan información a nuestra comunidad sobre otros recursos que los b
 eneficiarán a ellos y a sus seres queridos. Las pequeñas empresas promov
 erán sus negocios entre la comunidad y crecerán. Esperamos que nuestra c
 omunidad esté encantada de ver cómo nos reunimos todos para brindar info
 rmación válida de proveedores y vendedores\; esto nos unirá como una fa
 milia comunitaria.\n\nLa Fiesta Comunitaria de Deltona no se trata solo de
  compartir recursos\, sino también de fomentar conexiones significativas.
  Es una oportunidad única para que usted establezca contactos con colegas
  en su campo y más allá\, lo que potencialmente conducirá a colaboracio
 nes y asociaciones fructíferas.
CATEGORIES:Comunidad,Eventos
LOCATION:Iglesia Casa de Refugio\, 1049 E Normandy Blvd\, Deltona\, FL\, 32
 738\, United States
X-APPLE-STRUCTURED-LOCATION;VALUE=URI;X-ADDRESS=1049 E Normandy Blvd\, Delt
 ona\, FL\, 32738\, United States;X-APPLE-RADIUS=100;X-TITLE=Iglesia Casa d
 e Refugio:geo:0,0
END:VEVENT
END:VCALENDAR