BEGIN:VCALENDAR
VERSION:2.0
PRODID:-//wp-events-plugin.com//7.2.3.1//EN
BEGIN:VEVENT
UID:606@laz.radio
DTSTART:20260411T093000Z
DTEND:20260411T150000Z
DTSTAMP:20260419T132501Z
URL:
SUMMARY:FESTIVAL DE NACIONES
DESCRIPTION:La Primera Iglesia les invita al Festival de Naciones\, sábado
  11 de abril de 2026\, comenzando a las 9:30AM hasta las 3:00PM.  Estamos
  localizados en la 2031 Simpson Rd.\, Kissimmee\, FL 34744.\n\nTendremos:\
 n\n 	Casa de Brincos\n 	Face Painting\n 	Musica\n 	Sorteos\n 	Comida Inter
 nacionales (Puerto Rico\, Santo Domingo\, Colombia\, Argentina\, Francia\,
  Italia y más)\n\n¡Únase a nosotros para celebrar un día de diversión
  familiar!\n\nEste evento es para apoyar a nuestros misioneros. Estos obre
 ros que han dicho “si” al llamado de Dios.  Lo hacen con sacrificio\,
  fe y perseverancia\, enfrentando desafíos para llevar el evangelio hasta
  los confines de la tierra.\n\nComo\, pues\, invocaran en aquel de quien n
 o han creido? Y como creeran en aquel de quien no han oido? Y como oiran s
 in haber quien les predique?\n\nRomanos 10:14\n\nDe no poder asistir puede
 n unirse a esta mision a traves de su donacion especial a:\n\nZELLE: icdck
 iss@yahoo.com\n\nPush Pay: Festival de Naciones\n\nhttps://ppay.co/OGLMmVH
 cDkE\n\nMuchas gracias.\n\nDios les bendiga.
END:VEVENT
END:VCALENDAR