BEGIN:VCALENDAR
VERSION:2.0
PRODID:-//wp-events-plugin.com//7.2.3.1//EN
BEGIN:VEVENT
UID:89@laz.radio
DTSTART:20241004T190000Z
DTEND:20241004T210000Z
DTSTAMP:20240909T175225Z
URL:https://laz.radio/eventos/noche-de-adoracion-en-espanol/
SUMMARY:Noche de Adoración en Español
DESCRIPTION:Una noche de Adoración en español para toda la familia\, es t
 otalmente gratuita\, acompañanos \n\nhttps://lakemarychurch.churchcenter.
 com/registrations/events/2454226
CATEGORIES:Servicio de Adoración
LOCATION:Lake Mary Church\, 600 Rinehart Rd\, Lake Mary\, FLORIDA \, 32746\
 , United States
X-APPLE-STRUCTURED-LOCATION;VALUE=URI;X-ADDRESS=600 Rinehart Rd\, Lake Mary
 \, FLORIDA \, 32746\, United States;X-APPLE-RADIUS=100;X-TITLE=Lake Mary C
 hurch:geo:0,0
END:VEVENT
END:VCALENDAR