BEGIN:VCALENDAR
VERSION:2.0
PRODID:-//wp-events-plugin.com//7.2.3.1//EN
BEGIN:VEVENT
UID:18@laz.radio
DTSTART:20240615T160000Z
DTEND:20240615T200000Z
DTSTAMP:20240611T155314Z
URL:https://laz.radio/eventos/taller-de-parejas-de-salud-y-bienestar/
SUMMARY:Taller de Parejas de Salud y Bienestar
DESCRIPTION:Sábado junio 15\, 2024  4PM- 8PM\n\nEste evento fue diseñado
  contigo en mente. Ven y enriquece\, invierte y fortalece tu relación ?\n
 \nTendrás la oportunidad de escuchar información valiosa y dinámica de 
 parte de los mejores recursos expertos en la salud y bienestar de la parej
 a.\n\nAprenderás ejercicios de estiramiento junto a tu pareja\, a cómo r
 elajarse mutuamente con una meditación guiada y ejercicios de respiració
 n\, temas más profundos como la sexualidad en la pareja y cómo ésta int
 eractúa con el cerebro.\n\nAdemás\, juntos aprenderán una rutina básic
 a de Masaje Tailandés para consentir a tu amado(a) en un ambiente relajad
 o y al aire libre. ¡Así que trae tu colchón para hacer ejercicios\, sil
 las de playa\, edredón\, cojines\, agua\, que nosotros nos encargaremos d
 e lo demás!\n\n¡Pero espera\, aún hay más! Ambos recibirán un masaje 
 de silla complementario por una masajista terapéutico profesional y para 
 las primeras 25 Parejas que se registren recibirán un “Swag Bag” con 
 un surtido de regalos de nuestros auspiciadores All Tasty Solutions\, Grou
 nding Roots\, YÜJ Granola\, aceites esenciales\, velas aromáticas orgán
 icas\, jabones artesanales y MUCHO MÁS!\n\nInscripciones ya disponibles!\
 n\nEste 15 de Junio del 2024 de 4pm a 8pm tienes un cita romántica con tu
  pareja!\nY si no eres local\, no es problema! Aún puedes inscribirte y p
 articipar del evento virtualmente desde la comodidad de tu casa! Te haremo
 s llegar el “Swag Bag” para ambientar tu espacio favorito y ser parte 
 del evento.\n\nPara dudas o preguntas comunícate con nosotros al 407-928-
 5321\n\n¡Te esperamos!
CATEGORIES:Comunidad
LOCATION:Bithlo Community Park\, 18501 Washington Ave. \, Orlando\, Florida
  \, 32820\, Southeast \, United States
X-APPLE-STRUCTURED-LOCATION;VALUE=URI;X-ADDRESS=18501 Washington Ave. \, Or
 lando\, Florida \, 32820\, Southeast \, United States;X-APPLE-RADIUS=100;X
 -TITLE=Bithlo Community Park:geo:0,0
END:VEVENT
END:VCALENDAR